BEGIN:VCALENDAR
VERSION:2.0
PRODID:http://herz-jesu-pressig.de
BEGIN:VEVENT
UID:ac96d977-36ba-11f1-a8bf-0242ac11002b-1777561200000-de
DTSTAMP:20260412T215801Z
DTSTART:20260430T150000Z
DTEND:20260430T153000Z
SUMMARY;LANGUAGE=de:Ewige Anbetung: Eucharistische Andacht mit Aussetzung des Allerheiligsten
END:VEVENT
END:VCALENDAR
