BEGIN:VCALENDAR
VERSION:2.0
PRODID:http://herz-jesu-pressig.de
BEGIN:VEVENT
UID:acd3e27d-36ba-11f1-a8bf-0242ac11002b-1777732200000-de
DTSTAMP:20260412T215801Z
DTSTART:20260502T143000Z
DTEND:20260502T153000Z
SUMMARY;LANGUAGE=de:Ewige Anbetung; Eucharistische Andacht mit Aussetzung des Allerheiligsten; anschließend
DESCRIPTION;LANGUAGE=de:1. Betstunde
END:VEVENT
END:VCALENDAR
